Workbook

Sheet 원가계산서
B1: 공 사 원 가 계 산 서
B2: 공사명 : 한국도핑방지위원회 리모델링공사
B3: 비 목 | E3: 금 액 | F3: 구 성 비 | G3: 비 고
A4: A1 | B4: 순 공 사 원 가 | C4: 재 료 비 | D4: 직 접 재 료 비 | E4: =TRUNC(공종별집계표!F5,0) -> 55971092
A5: A2 | D5: 간 접 재 료 비 | E5: 0
A6: A3 | D6: 작업설, 부산물(△) | E6: 0
A7: AS | D7: [ 소 계 ] | E7: =TRUNC(E4+E5-E6,0) -> 55971092
A8: B1 | C8: 노 무 비 | D8: 직 접 노 무 비 | E8: =TRUNC(공종별집계표!H5,0) -> 21533004
A9: B2 | D9: 간 접 노 무 비 | E9: =TRUNC(E8*0.126,0) -> 2713158 | F9: 직접노무비 * 12.6%
A10: BS | D10: [ 소 계 ] | E10: =TRUNC(E8+E9,0) -> 24246162
A11: C2 | C11: 경 비 | D11: 경 비 | E11: =TRUNC(공종별집계표!J5,0) -> 284800
A12: C4 | D12: 산 재 보 험 료 | E12: =TRUNC(E10*0.0356,0) -> 863163 | F12: 노무비 * 3.56%
A13: C5 | D13: 고 용 보 험 료 | E13: =TRUNC(E10*0.0101,0) -> 244886 | F13: 노무비 * 1.01%
A14: CA | D14: 산업안전보건관리비 | E14: =TRUNC((E7+E8+(0/1.1))*0.0293,0) -> 2270870 | F14: (재료비+직노+관급자재비) * 2.93%
A15: CG | D15: 기 타 경 비 | E15: =TRUNC((E7+E10)*0.052,0) -> 4171297 | F15: (재료비+노무비) * 5.2%
A16: CH | D16: 환 경 보 전 비 | E16: =TRUNC((E7+E8+E11)*0.003,0) -> 233366 | F16: (재료비+직노+경비) * 0.3%
A17: CL | D17: 건설기계대여금지급보증서발급수수료 | E17: =TRUNC((E7+E8+E11)*0.001,0) -> 77788 | F17: (재료비+직노+경비) * 0.1%
A18: CS | D18: [ 소 계 ] | E18: =TRUNC(E11+E12+E13+E14+E15+E16+E17,0) -> 8146170
A19: S1 | B19: 계 | E19: =TRUNC(E7+E10+E18,0) -> 88363424
A20: D1 | B20: 일 반 관 리 비 | E20: =TRUNC(E19*0.06,0) -> 5301805 | F20: 계 * 6%
A21: D2 | B21: 이 윤 | E21: =TRUNC((E10+E18+E20)*0.15,0) -> 5654120 | F21: (노무비+경비+일반관리비) * 15%
A22: D3 | B22: 고재 | E22: =TRUNC(공종별집계표!T12,0) -> -24375
A23: D5 | B23: 폐기물처리비 | E23: =TRUNC(공종별집계표!T13,0) -> 286352
A24: D9 | B24: 공 급 가 액 | E24: =TRUNC(E19+E20+E21+E22+E23,0) -> 99581326
A25: DB | B25: 부 가 가 치 세 | E25: =TRUNC(E24*0.1,0) -> 9958132 | F25: 공급가액 * 10%
A26: DH | B26: 도 급 액 | E26: =TRUNC(E24+E25,-3) -> 109539000
A27: DL | B27: 관급자관급자재 | E27: =TRUNC(공종별집계표!T14,0) -> 74334000 | F27: (기관 발주)
A28: S2 | B28: 총 공 사 비 | E28: =TRUNC(E26+0+E27,0) -> 183873000
D33: 견적입찰 발주 추정금액 | E33: 99580909
D34: 부가세 | E34: 9958091
E35: =+E33+E34 -> 109539000
E36: =+E35=E26 -> TRUE

Sheet 공종별집계표
A1: 공 종 별 집 계 표
A2: [ 한국도핑방지위원회 리모델링공사 ]
A3: 품 명 | B3: 규 격 | C3: 단위 | D3: 수량 | E3: 재 료 비 | G3: 노 무 비 | I3: 경 비 | K3: 합 계 | M3: 비 고 | N3: 공종코드 | O3: 변수 | P3: 상위공종 | Q3: 공종구분 | R3: 공종레벨 | S3: 공종소계 | T3: 원가계산서 연결금액
E4: 단 가 | F4: 금 액 | G4: 단 가 | H4: 금 액 | I4: 단 가 | J4: 금 액 | K4: 단 가 | L4: 금 액
A5: 01 한국도핑방지위원회 리모델링공사 | D5: 1 | E5: =F6 -> 55971092 | F5: =E5*D5 -> 55971092 | G5: =H6 -> 21533004 | H5: =G5*D5 -> 21533004 | I5: =J6 -> 284800 | J5: =I5*D5 -> 284800 | K5: =E5+G5+I5 -> 77788896 | L5: =F5+H5+J5 -> 77788896 | N5: 01 | R5: 1
A6: 0101 건축공사 | D6: 1 | E6: =F7+F8+F9+F10+F11 -> 55971092 | F6: =E6*D6 -> 55971092 | G6: =H7+H8+H9+H10+H11 -> 21533004 | H6: =G6*D6 -> 21533004 | I6: =J7+J8+J9+J10+J11 -> 284800 | J6: =I6*D6 -> 284800 | K6: =E6+G6+I6 -> 77788896 | L6: =F6+H6+J6 -> 77788896 | N6: 0101 | P6: 01 | R6: 2
A7: 010101 가 설 공 사 | D7: 1 | E7: =공종별내역서!F26 -> 37154 | F7: =E7*D7 -> 37154 | G7: =공종별내역서!H26 -> 2466626 | H7: =G7*D7 -> 2466626 | I7: =공종별내역서!J26 -> 0 | J7: =I7*D7 -> 0 | K7: =E7+G7+I7 -> 2503780 | L7: =F7+H7+J7 -> 2503780 | N7: 010101 | P7: 0101 | R7: 3
A8: 010102 목공사및수장공사 | D8: 1 | E8: =공종별내역서!F49 -> 42664968 | F8: =E8*D8 -> 42664968 | G8: =공종별내역서!H49 -> 14899779 | H8: =G8*D8 -> 14899779 | I8: =공종별내역서!J49 -> 276135 | J8: =I8*D8 -> 276135 | K8: =E8+G8+I8 -> 57840882 | L8: =F8+H8+J8 -> 57840882 | N8: 010102 | P8: 0101 | R8: 3
A9: 010103 창호 및 유리공사 | D9: 1 | E9: =공종별내역서!F72 -> 9268970 | F9: =E9*D9 -> 9268970 | G9: =공종별내역서!H72 -> 3560506 | H9: =G9*D9 -> 3560506 | I9: =공종별내역서!J72 -> 2851 | J9: =I9*D9 -> 2851 | K9: =E9+G9+I9 -> 12832327 | L9: =F9+H9+J9 -> 12832327 | N9: 010103 | P9: 0101 | R9: 3
A10: 010104 기 타 공 사 | D10: 1 | E10: =공종별내역서!F95 -> 4000000 | F10: =E10*D10 -> 4000000 | G10: =공종별내역서!H95 -> 0 | H10: =G10*D10 -> 0 | I10: =공종별내역서!J95 -> 0 | J10: =I10*D10 -> 0 | K10: =E10+G10+I10 -> 4000000 | L10: =F10+H10+J10 -> 4000000 | N10: 010104 | P10: 0101 | R10: 3
A11: 010105 철 거 공 사 | D11: 1 | E11: =공종별내역서!F118 -> 0 | F11: =E11*D11 -> 0 | G11: =공종별내역서!H118 -> 606093 | H11: =G11*D11 -> 606093 | I11: =공종별내역서!J118 -> 5814 | J11: =I11*D11 -> 5814 | K11: =E11+G11+I11 -> 611907 | L11: =F11+H11+J11 -> 611907 | N11: 010105 | P11: 0101 | R11: 3
A12: 0102 고재 | D12: 1 | E12: =공종별내역서!F141 -> -24375 | F12: =E12*D12 -> -24375 | G12: =공종별내역서!H141 -> 0 | H12: =G12*D12 -> 0 | I12: =공종별내역서!J141 -> 0 | J12: =I12*D12 -> 0 | K12: =E12+G12+I12 -> -24375 | L12: =F12+H12+J12 -> -24375 | N12: 0102 | Q12: 4 | R12: 2 | T12: =L12*1 -> -24375
A13: 0103 폐기물처리비 | D13: 1 | E13: =공종별내역서!F164 -> 0 | F13: =E13*D13 -> 0 | G13: =공종별내역서!H164 -> 0 | H13: =G13*D13 -> 0 | I13: =공종별내역서!J164 -> 286352 | J13: =I13*D13 -> 286352 | K13: =E13+G13+I13 -> 286352 | L13: =F13+H13+J13 -> 286352 | N13: 0103 | Q13: 6 | R13: 2 | T13: =L13*1 -> 286352
A14: 0104 관급자관급자재 | D14: 1 | E14: =F15+F16 -> 74334000 | F14: =E14*D14 -> 74334000 | G14: =H15+H16 -> 0 | H14: =G14*D14 -> 0 | I14: =J15+J16 -> 0 | J14: =I14*D14 -> 0 | K14: =E14+G14+I14 -> 74334000 | L14: =F14+H14+J14 -> 74334000 | N14: 0104 | Q14: 7 | R14: 2 | T14: =L14*1 -> 74334000
A15: 010401 전열교환기 | D15: 1 | E15: =공종별내역서!F187 -> 19028049 | F15: =E15*D15 -> 19028049 | G15: =공종별내역서!H187 -> 0 | H15: =G15*D15 -> 0 | I15: =공종별내역서!J187 -> 0 | J15: =I15*D15 -> 0 | K15: =E15+G15+I15 -> 19028049 | L15: =F15+H15+J15 -> 19028049 | N15: 010401 | P15: 0104 | R15: 3
A16: 010402 시스템에어컨 | D16: 1 | E16: =공종별내역서!F233 -> 55305951 | F16: =E16*D16 -> 55305951 | G16: =공종별내역서!H233 -> 0 | H16: =G16*D16 -> 0 | I16: =공종별내역서!J233 -> 0 | J16: =I16*D16 -> 0 | K16: =E16+G16+I16 -> 55305951 | L16: =F16+H16+J16 -> 55305951 | N16: 010402 | P16: 0104 | R16: 3
A26: [ 합 계 ] | F26: =F5 -> 55971092 | H26: =H5 -> 21533004 | J26: =J5 -> 284800 | L26: =L5 -> 77788896

Sheet 공종별내역서
A1: [ 한국도핑방지위원회 리모델링공사 ]
A2: 품 명 | B2: 규 격 | C2: 단위 | D2: 수량 | E2: 재 료 비 | G2: 노 무 비 | I2: 경 비 | K2: 합 계 | M2: 비 고 | N2: 품목코드 | O2: 변수 | P2: 설정 | Q2: 공종코드 | R2: 일위 | S2: 단산 | T2: 자재 | U2: 손료적용 | V2: 손료저장 | W2: 적용율 | X2: JUK1 | Y2: JUK2 | Z2: JUK3 | AA2: JUK4 | AB2: JUK5 | AC2: JUK6 | AD2: JUK7 | AE2: JUK8 | AF2: JUK9 | AG2: JUK10 | AH2: JUK11 | AI2: JUK12 | AJ2: JUK13 | AK2: JUK14 | AL2: JUK15 | AM2: JUK16 | AN2: JUK17 | AO2: JUK18 | AP2: JUK19 | AQ2: JUK20 | AR2: 자재구분 | AS2: 공종구분 | AT2: 공종레벨 | AU2: 공종+자재 | AV2: 고유번호
E3: 단 가 | F3: 금 액 | G3: 단 가 | H3: 금 액 | I3: 단 가 | J3: 금 액 | K3: 단 가 | L3: 금 액
A4: 010101 가 설 공 사 | Q4: 010101
A5: 강관 조립말비계(이동식)설치 및 해체 | B5: 높이 2m, 3개월 | C5: 대 | D5: 2 | E5: =TRUNC(일위대가목록!E4,0) -> 18577 | F5: =TRUNC(E5*D5,0) -> 37154 | G5: =TRUNC(일위대가목록!F4,0) -> 93294 | H5: =TRUNC(G5*D5,0) -> 186588 | I5: =TRUNC(일위대가목록!G4,0) -> 0 | J5: =TRUNC(I5*D5,0) -> 0 | K5: =TRUNC(E5+G5+I5,0) -> 111871 | L5: =TRUNC(F5+H5+J5,0) -> 223742 | N5: 5B3E36DAAF32E13DF19F569D214962 | Q5: 010101 | R5: T | S5: F | T5: F | AU5: 0101015B3E36DAAF32E13DF19F569D214962 | AV5: 4
A6: 건축물 현장정리 | B6: 리모델링,준공청소포함 | C6: M2 | D6: 551 | E6: =TRUNC(일위대가목록!E5,0) -> 0 | F6: =TRUNC(E6*D6,0) -> 0 | G6: =TRUNC(일위대가목록!F5,0) -> 4138 | H6: =TRUNC(G6*D6,0) -> 2280038 | I6: =TRUNC(일위대가목록!G5,0) -> 0 | J6: =TRUNC(I6*D6,0) -> 0 | K6: =TRUNC(E6+G6+I6,0) -> 4138 | L6: =TRUNC(F6+H6+J6,0) -> 2280038 | N6: 5B3E36DF2F42A13A4163A5E203532F | Q6: 010101 | R6: T | S6: F | T6: F | AU6: 0101015B3E36DF2F42A13A4163A5E203532F | AV6: 5
A26: [ 합 계 ] | F26: =SUMIF(Q5:Q25,"010101",F5:F25) -> 37154 | H26: =SUMIF(Q5:Q25,"010101",H5:H25) -> 2466626 | J26: =SUMIF(Q5:Q25,"010101",J5:J25) -> 0 | L26: =SUMIF(Q5:Q25,"010101",L5:L25) -> 2503780 | N26: TOTAL
A27: 010102 목공사및수장공사 | Q27: 010102
A28: 방염시트지 | B28: (시공도) | C28: M2 | D28: 60 | E28: =TRUNC(단가대비표!O8,0) -> 30000 | F28: =TRUNC(E28*D28,0) -> 1800000 | G28: =TRUNC(단가대비표!P8,0) -> 0 | H28: =TRUNC(G28*D28,0) -> 0 | I28: =TRUNC(단가대비표!V8,0) -> 0 | J28: =TRUNC(I28*D28,0) -> 0 | K28: =TRUNC(E28+G28+I28,0) -> 30000 | L28: =TRUNC(F28+H28+J28,0) -> 1800000 | N28: 5C17164C0B02A138D1130C66077558FF07CE09 | Q28: 010102 | R28: F | S28: F | T28: T | AU28: 0101025C17164C0B02A138D1130C66077558FF07CE09 | AV28: 45
A29: 천장점검구 설치 | B29: AL 백색, 450*450mm | C29: 개소 | D29: 12 | E29: =TRUNC(일위대가목록!E6,0) -> 7210 | F29: =TRUNC(E29*D29,0) -> 86520 | G29: =TRUNC(일위대가목록!F6,0) -> 84445 | H29: =TRUNC(G29*D29,0) -> 1013340 | I29: =TRUNC(일위대가목록!G6,0) -> 2533 | J29: =TRUNC(I29*D29,0) -> 30396 | K29: =TRUNC(E29+G29+I29,0) -> 94188 | L29: =TRUNC(F29+H29+J29,0) -> 1130256 | N29: 5B3E86549782213AD1197126C8C5C5 | Q29: 010102 | R29: T | S29: F | T29: F | AU29: 0101025B3E86549782213AD1197126C8C5C5 | AV29: 7
A30: 걸레받이 설치 - 중밀도섬유판 | B30: T=9, H=100 | C30: M | D30: 40 | E30: =TRUNC(일위대가목록!E7,0) -> 805 | F30: =TRUNC(E30*D30,0) -> 32200 | G30: =TRUNC(일위대가목록!F7,0) -> 3956 | H30: =TRUNC(G30*D30,0) -> 158240 | I30: =TRUNC(일위대가목록!G7,0) -> 79 | J30: =TRUNC(I30*D30,0) -> 3160 | K30: =TRUNC(E30+G30+I30,0) -> 4840 | L30: =TRUNC(F30+H30+J30,0) -> 193600 | N30: 5B3ED6DF8242513E712EFD7C07CC89 | Q30: 010102 | R30: T | S30: F | T30: F | AU30: 0101025B3ED6DF8242513E712EFD7C07CC89 | AV30: 8
A31: 마이톤텍스 설치 | B31: 부분보수 | C31: M2 | D31: 19 | E31: =TRUNC(일위대가목록!E8,0) -> 988 | F31: =TRUNC(E31*D31,0) -> 18772 | G31: =TRUNC(일위대가목록!F8,0) -> 7178 | H31: =TRUNC(G31*D31,0) -> 136382 | I31: =TRUNC(일위대가목록!G8,0) -> 215 | J31: =TRUNC(I31*D31,0) -> 4085 | K31: =TRUNC(E31+G31+I31,0) -> 8381 | L31: =TRUNC(F31+H31+J31,0) -> 159239 | N31: 5B3ED6DDDB12B13BE10006131C5BAD | Q31: 010102 | R31: T | S31: F | T31: F | AU31: 0101025B3ED6DDDB12B13BE10006131C5BAD | AV31: 9
A32: 하이디 슬림패널(방염)-D2 | B32: 3.9t | C32: M2 | D32: 645 | E32: =TRUNC(일위대가목록!E9,0) -> 60000 | F32: =TRUNC(E32*D32,0) -> 38700000 | G32: =TRUNC(일위대가목록!F9,0) -> 17541 | H32: =TRUNC(G32*D32,0) -> 11313945 | I32: =TRUNC(일위대가목록!G9,0) -> 350 | J32: =TRUNC(I32*D32,0) -> 225750 | K32: =TRUNC(E32+G32+I32,0) -> 77891 | L32: =TRUNC(F32+H32+J32,0) -> 50239695 | N32: 5B3ED6DDDEE2F13DC16A509817DAF8 | Q32: 010102 | R32: T | S32: F | T32: F | AU32: 0101025B3ED6DDDEE2F13DC16A509817DAF8 | AV32: 10
A33: 드라이월설치(STUD100)-D1 | B33: W138,석고9.5T*1겹,양면,GW100 | C33: M2 | D33: 59 | E33: =TRUNC(일위대가목록!E10,0) -> 34364 | F33: =TRUNC(E33*D33,0) -> 2027476 | G33: =TRUNC(일위대가목록!F10,0) -> 38608 | H33: =TRUNC(G33*D33,0) -> 2277872 | I33: =TRUNC(일위대가목록!G10,0) -> 216 | J33: =TRUNC(I33*D33,0) -> 12744 | K33: =TRUNC(E33+G33+I33,0) -> 73188 | L33: =TRUNC(F33+H33+J33,0) -> 4318092 | N33: 5B3ED6D3D472013811CF973B9BFA77 | Q33: 010102 | R33: T | S33: F | T33: F | AU33: 0101025B3ED6D3D472013811CF973B9BFA77 | AV33: 11
A49: [ 합 계 ] | F49: =SUMIF(Q28:Q48,"010102",F28:F48) -> 42664968 | H49: =SUMIF(Q28:Q48,"010102",H28:H48) -> 14899779 | J49: =SUMIF(Q28:Q48,"010102",J28:J48) -> 276135 | L49: =SUMIF(Q28:Q48,"010102",L28:L48) -> 57840882 | N49: TOTAL
A50: 010103 창호 및 유리공사 | Q50: 010103
A51: 유리문 | B51: 유리문, 12*1050*2100mm, 손보호, 투명, 강화유리문 | C51: 개 | D51: 3 | E51: =TRUNC(단가대비표!O20,0) -> 450000 | F51: =TRUNC(E51*D51,0) -> 1350000 | G51: =TRUNC(단가대비표!P20,0) -> 0 | H51: =TRUNC(G51*D51,0) -> 0 | I51: =TRUNC(단가대비표!V20,0) -> 0 | J51: =TRUNC(I51*D51,0) -> 0 | K51: =TRUNC(E51+G51+I51,0) -> 450000 | L51: =TRUNC(F51+H51+J51,0) -> 1350000 | N51: 5C17164C0A62513C91677208F4D9207F8C543C | Q51: 010103 | R51: F | S51: F | T51: T | AU51: 0101035C17164C0A62513C91677208F4D9207F8C543C | AV51: 34
A52: 강화유리 | B52: 강화유리, 투명, 12mm | C52: M2 | D52: 43 | E52: =TRUNC(단가대비표!O24,0) -> 43200 | F52: =TRUNC(E52*D52,0) -> 1857600 | G52: =TRUNC(단가대비표!P24,0) -> 0 | H52: =TRUNC(G52*D52,0) -> 0 | I52: =TRUNC(단가대비표!V24,0) -> 0 | J52: =TRUNC(I52*D52,0) -> 0 | K52: =TRUNC(E52+G52+I52,0) -> 43200 | L52: =TRUNC(F52+H52+J52,0) -> 1857600 | N52: 5C17164C0A62513CB115E90A1ABBF27497ED6B | Q52: 010103 | R52: F | S52: F | T52: T | AU52: 0101035C17164C0A62513CB115E90A1ABBF27497ED6B | AV52: 35
A53: 도어힌지 | B53: 도어힌지, 황동, 베어링2개, 114.3*3.0mm | C53: 개 | D53: 12 | E53: =TRUNC(단가대비표!O34,0) -> 3000 | F53: =TRUNC(E53*D53,0) -> 36000 | G53: =TRUNC(단가대비표!P34,0) -> 0 | H53: =TRUNC(G53*D53,0) -> 0 | I53: =TRUNC(단가대비표!V34,0) -> 0 | J53: =TRUNC(I53*D53,0) -> 0 | K53: =TRUNC(E53+G53+I53,0) -> 3000 | L53: =TRUNC(F53+H53+J53,0) -> 36000 | N53: 5C1706A7B642E13991AA5291A1EE8F5BA96A75 | Q53: 010103 | R53: F | S53: F | T53: T | AU53: 0101035C1706A7B642E13991AA5291A1EE8F5BA96A75 | AV53: 13
A54: 플로어힌지 | B54: 플로어힌지, KS3호, 105kg, 강화유리문(K-8300) | C54: 조 | D54: 3 | E54: =TRUNC(단가대비표!O35,0) -> 77000 | F54: =TRUNC(E54*D54,0) -> 231000 | G54: =TRUNC(단가대비표!P35,0) -> 0 | H54: =TRUNC(G54*D54,0) -> 0 | I54: =TRUNC(단가대비표!V35,0) -> 0 | J54: =TRUNC(I54*D54,0) -> 0 | K54: =TRUNC(E54+G54+I54,0) -> 77000 | L54: =TRUNC(F54+H54+J54,0) -> 231000 | N54: 5C1706A7B642E13991AA5291A1EE89C3F0046C | Q54: 010103 | R54: F | S54: F | T54: T | AU54: 0101035C1706A7B642E13991AA5291A1EE89C3F0046C | AV54: 36
A55: 손잡이 | B55: 손잡이, 스테인리스, 보통(대) | C55: 개 | D55: 3 | E55: =TRUNC(단가대비표!O36,0) -> 40000 | F55: =TRUNC(E55*D55,0) -> 120000 | G55: =TRUNC(단가대비표!P36,0) -> 0 | H55: =TRUNC(G55*D55,0) -> 0 | I55: =TRUNC(단가대비표!V36,0) -> 0 | J55: =TRUNC(I55*D55,0) -> 0 | K55: =TRUNC(E55+G55+I55,0) -> 40000 | L55: =TRUNC(F55+H55+J55,0) -> 120000 | N55: 5C1706A7B642E13951CF80172634B2692694C4 | Q55: 010103 | R55: F | S55: F | T55: T | AU55: 0101035C1706A7B642E13951CF80172634B2692694C4 | AV55: 37
A56: 도어핸들 | B56: 도어핸들, 공정 | C56: 조 | D56: 1 | E56: =TRUNC(단가대비표!O37,0) -> 15000 | F56: =TRUNC(E56*D56,0) -> 15000 | G56: =TRUNC(단가대비표!P37,0) -> 0 | H56: =TRUNC(G56*D56,0) -> 0 | I56: =TRUNC(단가대비표!V37,0) -> 0 | J56: =TRUNC(I56*D56,0) -> 0 | K56: =TRUNC(E56+G56+I56,0) -> 15000 | L56: =TRUNC(F56+H56+J56,0) -> 15000 | N56: 5C1706A7B642E13951CF801727D4497A356DEC | Q56: 010103 | R56: F | S56: F | T56: T | AU56: 0101035C1706A7B642E13951CF801727D4497A356DEC | AV56: 14
A57: 디지탈도아록 | C57: 조 | D57: 3 | E57: =TRUNC(단가대비표!O38,0) -> 350000 | F57: =TRUNC(E57*D57,0) -> 1050000 | G57: =TRUNC(단가대비표!P38,0) -> 0 | H57: =TRUNC(G57*D57,0) -> 0 | I57: =TRUNC(단가대비표!V38,0) -> 0 | J57: =TRUNC(I57*D57,0) -> 0 | K57: =TRUNC(E57+G57+I57,0) -> 350000 | L57: =TRUNC(F57+H57+J57,0) -> 1050000 | N57: 5C1706A7B642E13951CF801724090F8E630906 | Q57: 010103 | R57: F | S57: F | T57: T | AU57: 0101035C1706A7B642E13951CF801724090F8E630906 | AV57: 15
A58: 유리주위 코킹 | B58: 5*5, 실리콘 | C58: M | D58: 132 | E58: =TRUNC(일위대가목록!E11,0) -> 383 | F58: =TRUNC(E58*D58,0) -> 50556 | G58: =TRUNC(일위대가목록!F11,0) -> 0 | H58: =TRUNC(G58*D58,0) -> 0 | I58: =TRUNC(일위대가목록!G11,0) -> 0 | J58: =TRUNC(I58*D58,0) -> 0 | K58: =TRUNC(E58+G58+I58,0) -> 383 | L58: =TRUNC(F58+H58+J58,0) -> 50556 | N58: 5B3EA6AC4A02113E71929688ECE92B | Q58: 010103 | R58: T | S58: F | T58: F | AU58: 0101035B3EA6AC4A02113E71929688ECE92B | AV58: 38
A59: 구조용 코킹 | B59: 5*16, 실리콘 | C59: M | D59: 42 | E59: =TRUNC(일위대가목록!E12,0) -> 2036 | F59: =TRUNC(E59*D59,0) -> 85512 | G59: =TRUNC(일위대가목록!F12,0) -> 0 | H59: =TRUNC(G59*D59,0) -> 0 | I59: =TRUNC(일위대가목록!G12,0) -> 0 | J59: =TRUNC(I59*D59,0) -> 0 | K59: =TRUNC(E59+G59+I59,0) -> 2036 | L59: =TRUNC(F59+H59+J59,0) -> 85512 | N59: 5B3EA6AC4A02413B81BD8F94BC61D6 | Q59: 010103 | R59: T | S59: F | T59: F | AU59: 0101035B3EA6AC4A02413B81BD8F94BC61D6 | AV59: 39
A60: 수밀코킹(실리콘) | B60: 삼각, 10mm, 창호주위 | C60: M | D60: 102 | E60: =TRUNC(일위대가목록!E13,0) -> 766 | F60: =TRUNC(E60*D60,0) -> 78132 | G60: =TRUNC(일위대가목록!F13,0) -> 5015 | H60: =TRUNC(G60*D60,0) -> 511530 | I60: =TRUNC(일위대가목록!G13,0) -> 0 | J60: =TRUNC(I60*D60,0) -> 0 | K60: =TRUNC(E60+G60+I60,0) -> 5781 | L60: =TRUNC(F60+H60+J60,0) -> 589662 | N60: 5B3EA6AC4B22513381732D0B31C59C | Q60: 010103 | R60: T | S60: F | T60: F | AU60: 0101035B3EA6AC4B22513381732D0B31C59C | AV60: 16
A61: SSD01 | B61: 9.100 x 2.800 = 25.480 | C61: EA | D61: 1 | E61: =TRUNC(일위대가목록!E14,0) -> 1444171 | F61: =TRUNC(E61*D61,0) -> 1444171 | G61: =TRUNC(일위대가목록!F14,0) -> 604429 | H61: =TRUNC(G61*D61,0) -> 604429 | I61: =TRUNC(일위대가목록!G14,0) -> 0 | J61: =TRUNC(I61*D61,0) -> 0 | K61: =TRUNC(E61+G61+I61,0) -> 2048600 | L61: =TRUNC(F61+H61+J61,0) -> 2048600 | N61: 5B3EE6C414E211300186F4A0CB2323 | Q61: 010103 | R61: T | S61: F | T61: F | AU61: 0101035B3EE6C414E211300186F4A0CB2323 | AV61: 40
A62: SSD02 | B62: 4.050 x 2.800 = 11.340 | C62: EA | D62: 1 | E62: =TRUNC(일위대가목록!E15,0) -> 890532 | F62: =TRUNC(E62*D62,0) -> 890532 | G62: =TRUNC(일위대가목록!F15,0) -> 369169 | H62: =TRUNC(G62*D62,0) -> 369169 | I62: =TRUNC(일위대가목록!G15,0) -> 0 | J62: =TRUNC(I62*D62,0) -> 0 | K62: =TRUNC(E62+G62+I62,0) -> 1259701 | L62: =TRUNC(F62+H62+J62,0) -> 1259701 | N62: 5B3EE6C414E211300186F4A0CB2321 | Q62: 010103 | R62: T | S62: F | T62: F | AU62: 0101035B3EE6C414E211300186F4A0CB2321 | AV62: 41
A63: SSD03 | B63: 4.470 x 2.800 = 12.516 | C63: EA | D63: 1 | E63: =TRUNC(일위대가목록!E16,0) -> 938223 | F63: =TRUNC(E63*D63,0) -> 938223 | G63: =TRUNC(일위대가목록!F16,0) -> 389433 | H63: =TRUNC(G63*D63,0) -> 389433 | I63: =TRUNC(일위대가목록!G16,0) -> 0 | J63: =TRUNC(I63*D63,0) -> 0 | K63: =TRUNC(E63+G63+I63,0) -> 1327656 | L63: =TRUNC(F63+H63+J63,0) -> 1327656 | N63: 5B3EE6C414E211300186F4A0CB2327 | Q63: 010103 | R63: T | S63: F | T63: F | AU63: 0101035B3EE6C414E211300186F4A0CB2327 | AV63: 42
A64: WD01 | B64: 1.000 x 2.100 = 2.100 | C64: EA | D64: 2 | E64: =TRUNC(일위대가목록!E17,0) -> 280000 | F64: =TRUNC(E64*D64,0) -> 560000 | G64: =TRUNC(일위대가목록!F17,0) -> 0 | H64: =TRUNC(G64*D64,0) -> 0 | I64: =TRUNC(일위대가목록!G17,0) -> 0 | J64: =TRUNC(I64*D64,0) -> 0 | K64: =TRUNC(E64+G64+I64,0) -> 280000 | L64: =TRUNC(F64+H64+J64,0) -> 560000 | N64: 5B3EE6C414E211300186F4A0CB2325 | Q64: 010103 | R64: T | S64: F | T64: F | AU64: 0101035B3EE6C414E211300186F4A0CB2325 | AV64: 17
A65: WD02 | B65: 2.000 x 2.100 = 4.200 | C65: EA | D65: 1 | E65: =TRUNC(일위대가목록!E18,0) -> 560000 | F65: =TRUNC(E65*D65,0) -> 560000 | G65: =TRUNC(일위대가목록!F18,0) -> 0 | H65: =TRUNC(G65*D65,0) -> 0 | I65: =TRUNC(일위대가목록!G18,0) -> 0 | J65: =TRUNC(I65*D65,0) -> 0 | K65: =TRUNC(E65+G65+I65,0) -> 560000 | L65: =TRUNC(F65+H65+J65,0) -> 560000 | N65: 5B3EE6C414E211300186F4A0CB232B | Q65: 010103 | R65: T | S65: F | T65: F | AU65: 0101035B3EE6C414E211300186F4A0CB232B | AV65: 18
A66: 도어록 설치 / 일반도어록 목재창호 | B66: 재료비 별도 | C66: 개소 | D66: 1 | E66: =TRUNC(일위대가목록!E19,0) -> 0 | F66: =TRUNC(E66*D66,0) -> 0 | G66: =TRUNC(일위대가목록!F19,0) -> 7695 | H66: =TRUNC(G66*D66,0) -> 7695 | I66: =TRUNC(일위대가목록!G19,0) -> 307 | J66: =TRUNC(I66*D66,0) -> 307 | K66: =TRUNC(E66+G66+I66,0) -> 8002 | L66: =TRUNC(F66+H66+J66,0) -> 8002 | N66: 5B3EE6C30CE2B132A1739CB51587E3 | Q66: 010103 | R66: T | S66: F | T66: F | AU66: 0101035B3EE6C30CE2B132A1739CB51587E3 | AV66: 19
A67: 도어록 설치 / 디지탈도어록 강재창호 | B67: 재료비 별도 | C67: 개소 | D67: 3 | E67: =TRUNC(일위대가목록!E20,0) -> 0 | F67: =TRUNC(E67*D67,0) -> 0 | G67: =TRUNC(일위대가목록!F20,0) -> 10674 | H67: =TRUNC(G67*D67,0) -> 32022 | I67: =TRUNC(일위대가목록!G20,0) -> 213 | J67: =TRUNC(I67*D67,0) -> 639 | K67: =TRUNC(E67+G67+I67,0) -> 10887 | L67: =TRUNC(F67+H67+J67,0) -> 32661 | N67: 5B3EE6C30CE2B132A1739E638EB3A9 | Q67: 010103 | R67: T | S67: F | T67: F | AU67: 0101035B3EE6C30CE2B132A1739E638EB3A9 | AV67: 20
A68: 플로어힌지 설치 | B68: 재료비 별도 | C68: 개소 | D68: 3 | E68: =TRUNC(일위대가목록!E21,0) -> 0 | F68: =TRUNC(E68*D68,0) -> 0 | G68: =TRUNC(일위대가목록!F21,0) -> 31776 | H68: =TRUNC(G68*D68,0) -> 95328 | I68: =TRUNC(일위대가목록!G21,0) -> 635 | J68: =TRUNC(I68*D68,0) -> 1905 | K68: =TRUNC(E68+G68+I68,0) -> 32411 | L68: =TRUNC(F68+H68+J68,0) -> 97233 | N68: 5B3EE6C30FB2D13DC1FEF03BFEB1EF | Q68: 010103 | R68: T | S68: F | T68: F | AU68: 0101035B3EE6C30FB2D13DC1FEF03BFEB1EF | AV68: 43
A69: 창호주위 발포우레탄 충전 | C69: M | D69: 51 | E69: =TRUNC(일위대가목록!E22,0) -> 44 | F69: =TRUNC(E69*D69,0) -> 2244 | G69: =TRUNC(일위대가목록!F22,0) -> 2147 | H69: =TRUNC(G69*D69,0) -> 109497 | I69: =TRUNC(일위대가목록!G22,0) -> 0 | J69: =TRUNC(I69*D69,0) -> 0 | K69: =TRUNC(E69+G69+I69,0) -> 2191 | L69: =TRUNC(F69+H69+J69,0) -> 111741 | N69: 5B3EE6C309124133814B52A05A4E0A | Q69: 010103 | R69: T | S69: F | T69: F | AU69: 0101035B3EE6C309124133814B52A05A4E0A | AV69: 21
A70: 창호유리설치 / 판유리 | B70: 유리두께 12mm 이하 | C70: M2 | D70: 43 | E70: =TRUNC(일위대가목록!E23,0) -> 0 | F70: =TRUNC(E70*D70,0) -> 0 | G70: =TRUNC(일위대가목록!F23,0) -> 33521 | H70: =TRUNC(G70*D70,0) -> 1441403 | I70: =TRUNC(일위대가목록!G23,0) -> 0 | J70: =TRUNC(I70*D70,0) -> 0 | K70: =TRUNC(E70+G70+I70,0) -> 33521 | L70: =TRUNC(F70+H70+J70,0) -> 1441403 | N70: 5B3EE6C26722C132219CB833B1A9A0 | Q70: 010103 | R70: T | S70: F | T70: F | AU70: 0101035B3EE6C26722C132219CB833B1A9A0 | AV70: 44
A72: [ 합 계 ] | F72: =SUMIF(Q51:Q71,"010103",F51:F71) -> 9268970 | H72: =SUMIF(Q51:Q71,"010103",H51:H71) -> 3560506 | J72: =SUMIF(Q51:Q71,"010103",J51:J71) -> 2851 | L72: =SUMIF(Q51:Q71,"010103",L51:L71) -> 12832327 | N72: TOTAL
A73: 010104 기 타 공 사 | Q73: 010104
A74: 씽크대 설치공사 | B74: 수전및배관공사 | C74: SET | D74: 1 | E74: =TRUNC(단가대비표!O88,0) -> 4000000 | F74: =TRUNC(E74*D74,0) -> 4000000 | G74: =TRUNC(단가대비표!P88,0) -> 0 | H74: =TRUNC(G74*D74,0) -> 0 | I74: =TRUNC(단가대비표!V88,0) -> 0 | J74: =TRUNC(I74*D74,0) -> 0 | K74: =TRUNC(E74+G74+I74,0) -> 4000000 | L74: =TRUNC(F74+H74+J74,0) -> 4000000 | N74: 5A8F962429D2513401D187D551F1CD412DB8F8 | Q74: 010104 | R74: F | S74: F | T74: T | AU74: 0101045A8F962429D2513401D187D551F1CD412DB8F8 | AV74: 92
A95: [ 합 계 ] | F95: =SUMIF(Q74:Q94,"010104",F74:F94) -> 4000000 | H95: =SUMIF(Q74:Q94,"010104",H74:H94) -> 0 | J95: =SUMIF(Q74:Q94,"010104",J74:J94) -> 0 | L95: =SUMIF(Q74:Q94,"010104",L74:L94) -> 4000000 | N95: TOTAL
...

Sheet 일위대가목록
B1: 일 위 대 가 목 록
B2: [ 한국도핑방지위원회 리모델링공사 ]
A3: 코 드 | B3: 품 명 | C3: 규 격 | D3: 단위 | E3: 재 료 비 | F3: 노 무 비 | G3: 경 비 | H3: 합 계 | I3: 번 호 | J3: 비 고 | K3: 노임계수 | L3: 할증 | M3: 품셈개요 | N3: 장비일위
A4: 5B3E36DAAF32E13DF19F569D214962 | B4: 강관 조립말비계(이동식)설치 및 해체 | C4: 높이 2m, 3개월 | D4: 대 | E4: =일위대가!F15 -> 18577 | F4: =일위대가!H15 -> 93294 | G4: =일위대가!J15 -> 0 | H4: =E4+F4+G4 -> 111871 | I4: 호표 1 | M4: 공통 2-7-4, 2-2-5
A5: 5B3E36DF2F42A13A4163A5E203532F | B5: 건축물 현장정리 | C5: 리모델링,준공청소포함 | D5: M2 | E5: =일위대가!F19 -> 0 | F5: =일위대가!H19 -> 4138 | G5: =일위대가!J19 -> 0 | H5: =E5+F5+G5 -> 4138 | I5: 호표 2 | M5: 공통 2-11-2
A6: 5B3E86549782213AD1197126C8C5C5 | B6: 천장점검구 설치 | C6: AL 백색, 450*450mm | D6: 개소 | E6: =일위대가!F27 -> 7210 | F6: =일위대가!H27 -> 84445 | G6: =일위대가!J27 -> 2533 | H6: =E6+F6+G6 -> 94188 | I6: 호표 3 | M6: 건축 8-1-6
A7: 5B3ED6DF8242513E712EFD7C07CC89 | B7: 걸레받이 설치 - 중밀도섬유판 | C7: T=9, H=100 | D7: M | E7: =일위대가!F33 -> 805 | F7: =일위대가!H33 -> 3956 | G7: =일위대가!J33 -> 79 | H7: =E7+F7+G7 -> 4840 | I7: 호표 4 | M7: 건축 5-3-5
A8: 5B3ED6DDDB12B13BE10006131C5BAD | B8: 마이톤텍스 설치 | C8: 부분보수 | D8: M2 | E8: =일위대가!F38 -> 988 | F8: =일위대가!H38 -> 7178 | G8: =일위대가!J38 -> 215 | H8: =E8+F8+G8 -> 8381 | I8: 호표 5
A9: 5B3ED6DDDEE2F13DC16A509817DAF8 | B9: 하이디 슬림패널(방염)-D2 | C9: 3.9t | D9: M2 | E9: =일위대가!F43 -> 60000 | F9: =일위대가!H43 -> 17541 | G9: =일위대가!J43 -> 350 | H9: =E9+F9+G9 -> 77891 | I9: 호표 6
A10: 5B3ED6D3D472013811CF973B9BFA77 | B10: 드라이월설치(STUD100)-D1 | C10: W138,석고9.5T*1겹,양면,GW100 | D10: M2 | E10: =일위대가!F50 -> 34364 | F10: =일위대가!H50 -> 38608 | G10: =일위대가!J50 -> 216 | H10: =E10+F10+G10 -> 73188 | I10: 호표 7
A11: 5B3EA6AC4A02113E71929688ECE92B | B11: 유리주위 코킹 | C11: 5*5, 실리콘 | D11: M | E11: =일위대가!F54 -> 383 | F11: =일위대가!H54 -> 0 | G11: =일위대가!J54 -> 0 | H11: =E11+F11+G11 -> 383 | I11: 호표 8 | M11: 건축 6-6-1
A12: 5B3EA6AC4A02413B81BD8F94BC61D6 | B12: 구조용 코킹 | C12: 5*16, 실리콘 | D12: M | E12: =일위대가!F58 -> 2036 | F12: =일위대가!H58 -> 0 | G12: =일위대가!J58 -> 0 | H12: =E12+F12+G12 -> 2036 | I12: 호표 9 | M12: 건축 6-6-1
A13: 5B3EA6AC4B22513381732D0B31C59C | B13: 수밀코킹(실리콘) | C13: 삼각, 10mm, 창호주위 | D13: M | E13: =일위대가!F63 -> 766 | F13: =일위대가!H63 -> 5015 | G13: =일위대가!J63 -> 0 | H13: =E13+F13+G13 -> 5781 | I13: 호표 10 | M13: 건축 6-6-1
A14: 5B3EE6C414E211300186F4A0CB2323 | B14: SSD01 | C14: 9.100 x 2.800 = 25.480 | D14: EA | E14: =일위대가!F69 -> 1444171 | F14: =일위대가!H69 -> 604429 | G14: =일위대가!J69 -> 0 | H14: =E14+F14+G14 -> 2048600 | I14: 호표 11
A15: 5B3EE6C414E211300186F4A0CB2321 | B15: SSD02 | C15: 4.050 x 2.800 = 11.340 | D15: EA | E15: =일위대가!F75 -> 890532 | F15: =일위대가!H75 -> 369169 | G15: =일위대가!J75 -> 0 | H15: =E15+F15+G15 -> 1259701 | I15: 호표 12
A16: 5B3EE6C414E211300186F4A0CB2327 | B16: SSD03 | C16: 4.470 x 2.800 = 12.516 | D16: EA | E16: =일위대가!F81 -> 938223 | F16: =일위대가!H81 -> 389433 | G16: =일위대가!J81 -> 0 | H16: =E16+F16+G16 -> 1327656 | I16: 호표 13
A17: 5B3EE6C414E211300186F4A0CB2325 | B17: WD01 | C17: 1.000 x 2.100 = 2.100 | D17: EA | E17: =일위대가!F86 -> 280000 | F17: =일위대가!H86 -> 0 | G17: =일위대가!J86 -> 0 | H17: =E17+F17+G17 -> 280000 | I17: 호표 14
A18: 5B3EE6C414E211300186F4A0CB232B | B18: WD02 | C18: 2.000 x 2.100 = 4.200 | D18: EA | E18: =일위대가!F91 -> 560000 | F18: =일위대가!H91 -> 0 | G18: =일위대가!J91 -> 0 | H18: =E18+F18+G18 -> 560000 | I18: 호표 15
A19: 5B3EE6C30CE2B132A1739CB51587E3 | B19: 도어록 설치 / 일반도어록 목재창호 | C19: 재료비 별도 | D19: 개소 | E19: =일위대가!F96 -> 0 | F19: =일위대가!H96 -> 7695 | G19: =일위대가!J96 -> 307 | H19: =E19+F19+G19 -> 8002 | I19: 호표 16 | M19: 건축 10-2-3
A20: 5B3EE6C30CE2B132A1739E638EB3A9 | B20: 도어록 설치 / 디지탈도어록 강재창호 | C20: 재료비 별도 | D20: 개소 | E20: =일위대가!F101 -> 0 | F20: =일위대가!H101 -> 10674 | G20: =일위대가!J101 -> 213 | H20: =E20+F20+G20 -> 10887 | I20: 호표 17 | M20: 건축 10-2-3
A21: 5B3EE6C30FB2D13DC1FEF03BFEB1EF | B21: 플로어힌지 설치 | C21: 재료비 별도 | D21: 개소 | E21: =일위대가!F107 -> 0 | F21: =일위대가!H107 -> 31776 | G21: =일위대가!J107 -> 635 | H21: =E21+F21+G21 -> 32411 | I21: 호표 18 | M21: 건축 10-2-2
A22: 5B3EE6C309124133814B52A05A4E0A | B22: 창호주위 발포우레탄 충전 | D22: M | E22: =일위대가!F111 -> 44 | F22: =일위대가!H111 -> 2147 | G22: =일위대가!J111 -> 0 | H22: =E22+F22+G22 -> 2191 | I22: 호표 19
A23: 5B3EE6C26722C132219CB833B1A9A0 | B23: 창호유리설치 / 판유리 | C23: 유리두께 12mm 이하 | D23: M2 | E23: =일위대가!F116 -> 0 | F23: =일위대가!H116 -> 33521 | G23: =일위대가!J116 -> 0 | H23: =E23+F23+G23 -> 33521 | I23: 호표 20 | M23: 건축 10-3-1
A24: 5B3F36466622413D41310F1614AE1A | B24: 경량벽체 해체 | D24: M2 | E24: =일위대가!F122 -> 0 | F24: =일위대가!H122 -> 5717 | G24: =일위대가!J122 -> 114 | H24: =E24+F24+G24 -> 5831 | I24: 호표 21
A25: 5B3F36466622413D413103650B6758 | B25: 시트지 제거 | D25: M2 | E25: =일위대가!F126 -> 0 | F25: =일위대가!H126 -> 8277 | G25: =일위대가!J126 -> 0 | H25: =E25+F25+G25 -> 8277 | I25: 호표 22
A26: 5B3F36466622413D4131036509B628 | B26: 철재문 해체 | D26: M2 | E26: =일위대가!F130 -> 0 | F26: =일위대가!H130 -> 24831 | G26: =일위대가!J130 -> 0 | H26: =E26+F26+G26 -> 24831 | I26: 호표 23
A27: 5B3F36466622413D4131036509B62C | B27: 목재문 해체 | D27: M2 | E27: =일위대가!F134 -> 0 | F27: =일위대가!H134 -> 24831 | G27: =일위대가!J134 -> 0 | H27: =E27+F27+G27 -> 24831 | I27: 호표 24
A28: 5B3E36DAAF32E13DF19F569C1A57AB | B28: 강관 조립말비계(이동식)설치 및 해체 | C28: 높이 2m, 노무비 | D28: 대 | E28: =일위대가!F139 -> 0 | F28: =일위대가!H139 -> 93294 | G28: =일위대가!J139 -> 0 | H28: =E28+F28+G28 -> 93294 | I28: 호표 25 | M28: 공통 2-7-4
A29: 5B3ED6DF82427139213646BE16D26A | B29: 걸레받이 설치 | C29: 중밀도섬유판, H=75~120mm 기준 | D29: M | E29: =일위대가!F145 -> 0 | F29: =일위대가!H145 -> 3956 | G29: =일위대가!J145 -> 79 | H29: =E29+F29+G29 -> 4035 | I29: 호표 26 | M29: 건축 5-3-5
A30: 5B3ED6DDDB12B13BE10006131C5A87 | B30: 흡음텍스 설치 | D30: M2 | E30: =일위대가!F151 -> 0 | F30: =일위대가!H151 -> 14357 | G30: =일위대가!J151 -> 430 | H30: =E30+F30+G30 -> 14787 | I30: 호표 27 | M30: 건축 5-2-1
A31: 5B3ED6DDDEE2F13DC16A509817DAF9 | B31: 벽체합판 설치 | C31: 합판 별도 | D31: M2 | E31: =일위대가!F157 -> 0 | F31: =일위대가!H157 -> 17541 | G31: =일위대가!J157 -> 350 | H31: =E31+F31+G31 -> 17891 | I31: 호표 28 | M31: 건축 4-2-3
A32: 5B3ED6D3D472013811CF9738C67889 | B32: 스터드설치(DRY WALL) | C32: C-100*45*0.8 | D32: M2 | E32: =일위대가!F169 -> 19077 | F32: =일위대가!H169 -> 8181 | G32: =일위대가!J169 -> 0 | H32: =E32+F32+G32 -> 27258 | I32: 호표 29
A33: 5B3ED6DDD8424130C1E96C3E51A8B1 | B33: 석고판 설치(나사고정) - 바탕용 | C33: 벽, 1겹 붙임 | D33: M2 | E33: =일위대가!F175 -> 0 | F33: =일위대가!H175 -> 10850 | G33: =일위대가!J175 -> 108 | H33: =E33+F33+G33 -> 10958 | I33: 호표 30 | M33: 건축 5-3-1
A34: 5B3ED6DA0422913F615D8AFDA3C184 | B34: 유리면 격자넣기 - 벽 | C34: 유리면매트, 밀도24kg/㎥, 100mm | D34: M2 | E34: =일위대가!F180 -> 9416 | F34: =일위대가!H180 -> 8727 | G34: =일위대가!J180 -> 0 | H34: =E34+F34+G34 -> 18143 | I34: 호표 31 | M34: 건축 5-4-3
A35: 5B3ED6DA0422913F7164FA24C4C350 | B35: 단열재 격자넣기 | C35: 100mm 이하, 벽 | D35: M2 | E35: =일위대가!F185 -> 0 | F35: =일위대가!H185 -> 8727 | G35: =일위대가!J185 -> 0 | H35: =E35+F35+G35 -> 8727 | I35: 호표 32 | M35: 건축 5-4-3
A36: 5B3EA6AC4852213631180236743622 | B36: 수밀코킹 | C36: 재료비 별도 | D36: M | E36: =일위대가!F189 -> 0 | F36: =일위대가!H189 -> 5015 | G36: =일위대가!J189 -> 0 | H36: =E36+F36+G36 -> 5015 | I36: 호표 33 | M36: 건축 6-6-1

Sheet 일위대가
A1: [ 한국도핑방지위원회 리모델링공사 ]
A2: 품 명 | B2: 규 격 | C2: 단위 | D2: 수량 | E2: 재 료 비 | G2: 노 무 비 | I2: 경 비 | K2: 합 계 | M2: 비 고 | N2: 일위대가 | O2: 품목코드 | P2: 일위 | Q2: 단산 | R2: 자재 | S2: 손료적용 | T2: 손료저장 | U2: 적용율 | V2: JUK1 | W2: JUK2 | X2: JUK3 | Y2: JUK4 | Z2: JUK5 | AA2: JUK6 | AB2: JUK7 | AC2: JUK8 | AD2: JUK9 | AE2: JUK10 | AF2: JUK11 | AG2: JUK12 | AH2: JUK13 | AI2: JUK14 | AJ2: JUK15 | AK2: JUK16 | AL2: JUK17 | AM2: JUK18 | AN2: JUK19 | AO2: JUK20 | AP2: 할증적용 | AQ2: 할증저장 | AR2: 할증율 | AS2: HAL1 | AT2: HAL2 | AU2: HAL3 | AV2: 자재구분 | AW2: 일위대가+자재 | AX2: 장비일위 | AY2: 설정 | AZ2: 할증체크
E3: 단 가 | F3: 금 액 | G3: 단 가 | H3: 금 액 | I3: 단 가 | J3: 금 액 | K3: 단 가 | L3: 금 액
A4: 강관 조립말비계(이동식)설치 및 해체 높이 2m, 3개월 대 공통 2-7-4, 2-2-5 ( 호표 1 ) | N4: 5B3E36DAAF32E13DF19F569D214962
A5: 비계안정장치 | B5: 비계안정장치, 비계기본틀, 기둥, 1.2*1.7m | C5: 개 | D5: 0.12 | E5: =단가대비표!O25 -> 33471 | F5: =TRUNC(E5*D5,1) -> 4016.5 | G5: =단가대비표!P25 -> 0 | H5: =TRUNC(G5*D5,1) -> 0 | I5: =단가대비표!V25 -> 0 | J5: =TRUNC(I5*D5,1) -> 0 | K5: =TRUNC(E5+G5+I5,1) -> 33471 | L5: =TRUNC(F5+H5+J5,1) -> 4016.5 | N5: 5B3E36DAAF32E13DF19F569D214962 | O5: 5C17164C04D2D13A01468F993BF5AEE5BF140B | P5: F | Q5: F | R5: T | AW5: 5B3E36DAAF32E13DF19F569D2149625C17164C04D2D13A01468F993BF5AEE5BF140B
A6: 비계안정장치 | B6: 비계안정장치, 가새, 1.2*1.9m | C6: 개 | D6: 0.12 | E6: =단가대비표!O26 -> 9844 | F6: =TRUNC(E6*D6,1) -> 1181.2 | G6: =단가대비표!P26 -> 0 | H6: =TRUNC(G6*D6,1) -> 0 | I6: =단가대비표!V26 -> 0 | J6: =TRUNC(I6*D6,1) -> 0 | K6: =TRUNC(E6+G6+I6,1) -> 9844 | L6: =TRUNC(F6+H6+J6,1) -> 1181.2 | N6: 5B3E36DAAF32E13DF19F569D214962 | O6: 5C17164C04D2D13A01468F993BF5AEE5BF1405 | P6: F | Q6: F | R6: T | AW6: 5B3E36DAAF32E13DF19F569D2149625C17164C04D2D13A01468F993BF5AEE5BF1405
A7: 비계안정장치 | B7: 비계안정장치, 수평띠장, 1829mm | C7: 개 | D7: 0.24 | E7: =단가대비표!O27 -> 25000 | F7: =TRUNC(E7*D7,1) -> 6000 | G7: =단가대비표!P27 -> 0 | H7: =TRUNC(G7*D7,1) -> 0 | I7: =단가대비표!V27 -> 0 | J7: =TRUNC(I7*D7,1) -> 0 | K7: =TRUNC(E7+G7+I7,1) -> 25000 | L7: =TRUNC(F7+H7+J7,1) -> 6000 | N7: 5B3E36DAAF32E13DF19F569D214962 | O7: 5C17164C04D2D13A01468F993BF5AEE5BF1BB9 | P7: F | Q7: F | R7: T | AW7: 5B3E36DAAF32E13DF19F569D2149625C17164C04D2D13A01468F993BF5AEE5BF1BB9
A8: 비계안정장치 | B8: 비계안정장치, 손잡이기둥 | C8: 개 | D8: 0.24 | E8: =단가대비표!O30 -> 0 | F8: =TRUNC(E8*D8,1) -> 0 | G8: =단가대비표!P30 -> 0 | H8: =TRUNC(G8*D8,1) -> 0 | I8: =단가대비표!V30 -> 0 | J8: =TRUNC(I8*D8,1) -> 0 | K8: =TRUNC(E8+G8+I8,1) -> 0 | L8: =TRUNC(F8+H8+J8,1) -> 0 | N8: 5B3E36DAAF32E13DF19F569D214962 | O8: 5C17164C04D2D13A01468F993BF5AEE5BF1BBE | P8: F | Q8: F | R8: T | AW8: 5B3E36DAAF32E13DF19F569D2149625C17164C04D2D13A01468F993BF5AEE5BF1BBE
A9: 비계안정장치 | B9: 비계안정장치, 손잡이, 1229mm | C9: 개 | D9: 0.12 | E9: =단가대비표!O28 -> 0 | F9: =TRUNC(E9*D9,1) -> 0 | G9: =단가대비표!P28 -> 0 | H9: =TRUNC(G9*D9,1) -> 0 | I9: =단가대비표!V28 -> 0 | J9: =TRUNC(I9*D9,1) -> 0 | K9: =TRUNC(E9+G9+I9,1) -> 0 | L9: =TRUNC(F9+H9+J9,1) -> 0 | N9: 5B3E36DAAF32E13DF19F569D214962 | O9: 5C17164C04D2D13A01468F993BF5AEE5BF1BB8 | P9: F | Q9: F | R9: T | AW9: 5B3E36DAAF32E13DF19F569D2149625C17164C04D2D13A01468F993BF5AEE5BF1BB8
A10: 비계안정장치 | B10: 비계안정장치, 손잡이, 1829mm | C10: 개 | D10: 0.24 | E10: =단가대비표!O29 -> 0 | F10: =TRUNC(E10*D10,1) -> 0 | G10: =단가대비표!P29 -> 0 | H10: =TRUNC(G10*D10,1) -> 0 | I10: =단가대비표!V29 -> 0 | J10: =TRUNC(I10*D10,1) -> 0 | K10: =TRUNC(E10+G10+I10,1) -> 0 | L10: =TRUNC(F10+H10+J10,1) -> 0 | N10: 5B3E36DAAF32E13DF19F569D214962 | O10: 5C17164C04D2D13A01468F993BF5AEE5BF1BBF | P10: F | Q10: F | R10: T | AW10: 5B3E36DAAF32E13DF19F569D2149625C17164C04D2D13A01468F993BF5AEE5BF1BBF
A11: 비계안정장치 | B11: 비계안정장치, 바퀴 | C11: 개 | D11: 0.36 | E11: =단가대비표!O31 -> 9500 | F11: =TRUNC(E11*D11,1) -> 3420 | G11: =단가대비표!P31 -> 0 | H11: =TRUNC(G11*D11,1) -> 0 | I11: =단가대비표!V31 -> 0 | J11: =TRUNC(I11*D11,1) -> 0 | K11: =TRUNC(E11+G11+I11,1) -> 9500 | L11: =TRUNC(F11+H11+J11,1) -> 3420 | N11: 5B3E36DAAF32E13DF19F569D214962 | O11: 5C17164C04D2D13A01468F993BF5AEE5BF1BBD | P11: F | Q11: F | R11: T | AW11: 5B3E36DAAF32E13DF19F569D2149625C17164C04D2D13A01468F993BF5AEE5BF1BBD
A12: 비계안정장치 | B12: 비계안정장치, 쟈키 | C12: 개 | D12: 0.36 | E12: =단가대비표!O32 -> 11000 | F12: =TRUNC(E12*D12,1) -> 3960 | G12: =단가대비표!P32 -> 0 | H12: =TRUNC(G12*D12,1) -> 0 | I12: =단가대비표!V32 -> 0 | J12: =TRUNC(I12*D12,1) -> 0 | K12: =TRUNC(E12+G12+I12,1) -> 11000 | L12: =TRUNC(F12+H12+J12,1) -> 3960 | N12: 5B3E36DAAF32E13DF19F569D214962 | O12: 5C17164C04D2D13A01468F993BF5AEE5BF1BBC | P12: F | Q12: F | R12: T | AW12: 5B3E36DAAF32E13DF19F569D2149625C17164C04D2D13A01468F993BF5AEE5BF1BBC
A13: 비계안정장치 | B13: 비계안정장치, 발판, 40*200*2000 | C13: 장 | D13: 0.63 | E13: =단가대비표!O33 -> 0 | F13: =TRUNC(E13*D13,1) -> 0 | G13: =단가대비표!P33 -> 0 | H13: =TRUNC(G13*D13,1) -> 0 | I13: =단가대비표!V33 -> 0 | J13: =TRUNC(I13*D13,1) -> 0 | K13: =TRUNC(E13+G13+I13,1) -> 0 | L13: =TRUNC(F13+H13+J13,1) -> 0 | N13: 5B3E36DAAF32E13DF19F569D214962 | O13: 5C17164C04D2D13A01468F9939C5E203350690 | P13: F | Q13: F | R13: T | AW13: 5B3E36DAAF32E13DF19F569D2149625C17164C04D2D13A01468F9939C5E203350690
A14: 강관 조립말비계(이동식)설치 및 해체 | B14: 높이 2m, 노무비 | C14: 대 | D14: 1 | E14: =일위대가목록!E28 -> 0 | F14: =TRUNC(E14*D14,1) -> 0 | G14: =일위대가목록!F28 -> 93294 | H14: =TRUNC(G14*D14,1) -> 93294 | I14: =일위대가목록!G28 -> 0 | J14: =TRUNC(I14*D14,1) -> 0 | K14: =TRUNC(E14+G14+I14,1) -> 93294 | L14: =TRUNC(F14+H14+J14,1) -> 93294 | N14: 5B3E36DAAF32E13DF19F569D214962 | O14: 5B3E36DAAF32E13DF19F569C1A57AB | P14: T | Q14: F | R14: F | AW14: 5B3E36DAAF32E13DF19F569D2149625B3E36DAAF32E13DF19F569C1A57AB
A15: [ 합 계 ] | F15: =TRUNC(SUMIF(N5:N14,N4,F5:F14),0) -> 18577 | H15: =TRUNC(SUMIF(N5:N14,N4,H5:H14),0) -> 93294 | J15: =TRUNC(SUMIF(N5:N14,N4,J5:J14),0) -> 0 | L15: =F15+H15+J15 -> 111871 | N15: TOTAL | O15: TOTAL
A17: 건축물 현장정리 리모델링,준공청소포함 M2 공통 2-11-2 ( 호표 2 ) | N17: 5B3E36DF2F42A13A4163A5E203532F
A18: 보통인부 | B18: 일반공사 직종 | C18: 인 | D18: 0.025 | E18: =단가대비표!O48 -> 0 | F18: =TRUNC(E18*D18,1) -> 0 | G18: =단가대비표!P48 -> 165545 | H18: =TRUNC(G18*D18,1) -> 4138.6 | I18: =단가대비표!V48 -> 0 | J18: =TRUNC(I18*D18,1) -> 0 | K18: =TRUNC(E18+G18+I18,1) -> 165545 | L18: =TRUNC(F18+H18+J18,1) -> 4138.6 | N18: 5B3E36DF2F42A13A4163A5E203532F | O18: 5BEBC6FFB282113D61DA288872792139A4E86D | P18: F | Q18: F | R18: T | AW18: 5B3E36DF2F42A13A4163A5E203532F5BEBC6FFB282113D61DA288872792139A4E86D
A19: [ 합 계 ] | F19: =TRUNC(SUMIF(N18:N18,N17,F18:F18),0) -> 0 | H19: =TRUNC(SUMIF(N18:N18,N17,H18:H18),0) -> 4138 | J19: =TRUNC(SUMIF(N18:N18,N17,J18:J18),0) -> 0 | L19: =F19+H19+J19 -> 4138 | N19: TOTAL | O19: TOTAL
A21: 천장점검구 설치 AL 백색, 450*450mm 개소 건축 8-1-6 ( 호표 3 ) | N21: 5B3E86549782213AD1197126C8C5C5
A22: 점검구 | B22: AL(백색), 450*450mm | C22: 조 | D22: 1 | E22: =단가대비표!O21 -> 7000 | F22: =TRUNC(E22*D22,1) -> 7000 | G22: =단가대비표!P21 -> 0 | H22: =TRUNC(G22*D22,1) -> 0 | I22: =단가대비표!V21 -> 0 | J22: =TRUNC(I22*D22,1) -> 0 | K22: =TRUNC(E22+G22+I22,1) -> 7000 | L22: =TRUNC(F22+H22+J22,1) -> 7000 | N22: 5B3E86549782213AD1197126C8C5C5 | O22: 5C17164C0A62513C916F400F0984A8C1CA8403 | P22: F | Q22: F | R22: T | V22: 1 | AW22: 5B3E86549782213AD1197126C8C5C55C17164C0A62513C916F400F0984A8C1CA8403
A23: 잡재료 | B23: 주재료비의 3% | C23: 식 | D23: 1 | E23: =TRUNC(SUMIF(V22:V26,RIGHTB(O23,1),F22:F26)*U23,2) -> 210 | F23: =TRUNC(E23*D23,1) -> 210 | G23: 0 | H23: =TRUNC(G23*D23,1) -> 0 | I23: 0 | J23: =TRUNC(I23*D23,1) -> 0 | K23: =TRUNC(E23+G23+I23,1) -> 210 | L23: =TRUNC(F23+H23+J23,1) -> 210 | N23: 5B3E86549782213AD1197126C8C5C5 | O23: 5A2006464502813A71E7979C6465001 | P23: F | Q23: F | R23: F | S23: 0 | T23: 0 | U23: 0.03 | AW23: 5B3E86549782213AD1197126C8C5C55A2006464502813A71E7979C6465001
A24: 내장공 | B24: 일반공사 직종 | C24: 인 | D24: 0.308 | E24: =단가대비표!O54 -> 0 | F24: =TRUNC(E24*D24,1) -> 0 | G24: =단가대비표!P54 -> 243538 | H24: =TRUNC(G24*D24,1) -> 75009.7 | I24: =단가대비표!V54 -> 0 | J24: =TRUNC(I24*D24,1) -> 0 | K24: =TRUNC(E24+G24+I24,1) -> 243538 | L24: =TRUNC(F24+H24+J24,1) -> 75009.7 | N24: 5B3E86549782213AD1197126C8C5C5 | O24: 5BEBC6FFB282113D61DA288872792139A4EB23 | P24: F | Q24: F | R24: T | W24: 2 | AW24: 5B3E86549782213AD1197126C8C5C55BEBC6FFB282113D61DA288872792139A4EB23
A25: 보통인부 | B25: 일반공사 직종 | C25: 인 | D25: 0.057 | E25: =단가대비표!O48 -> 0 | F25: =TRUNC(E25*D25,1) -> 0 | G25: =단가대비표!P48 -> 165545 | H25: =TRUNC(G25*D25,1) -> 9436 | I25: =단가대비표!V48 -> 0 | J25: =TRUNC(I25*D25,1) -> 0 | K25: =TRUNC(E25+G25+I25,1) -> 165545 | L25: =TRUNC(F25+H25+J25,1) -> 9436 | N25: 5B3E86549782213AD1197126C8C5C5 | O25: 5BEBC6FFB282113D61DA288872792139A4E86D | P25: F | Q25: F | R25: T | W25: 2 | AW25: 5B3E86549782213AD1197126C8C5C55BEBC6FFB282113D61DA288872792139A4E86D
A26: 공구손료 | B26: 인력품의 3% | C26: 식 | D26: 1 | E26: 0 | F26: =TRUNC(E26*D26,1) -> 0 | G26: 0 | H26: =TRUNC(G26*D26,1) -> 0 | I26: =TRUNC(SUMIF(W22:W26,RIGHTB(O26,1),H22:H26)*U26,2) -> 2533.37 | J26: =TRUNC(I26*D26,1) -> 2533.3 | K26: =TRUNC(E26+G26+I26,1) -> 2533.3 | L26: =TRUNC(F26+H26+J26,1) -> 2533.3 | N26: 5B3E86549782213AD1197126C8C5C5 | O26: 5A2006464502813A71E7979C6466002 | P26: F | Q26: F | R26: F | S26: 1 | T26: 2 | U26: 0.03 | AW26: 5B3E86549782213AD1197126C8C5C55A2006464502813A71E7979C6466002
A27: [ 합 계 ] | F27: =TRUNC(SUMIF(N22:N26,N21,F22:F26),0) -> 7210 | H27: =TRUNC(SUMIF(N22:N26,N21,H22:H26),0) -> 84445 | J27: =TRUNC(SUMIF(N22:N26,N21,J22:J26),0) -> 2533 | L27: =F27+H27+J27 -> 94188 | N27: TOTAL | O27: TOTAL
A29: 걸레받이 설치 - 중밀도섬유판 T=9, H=100 M 건축 5-3-5 ( 호표 4 ) | N29: 5B3ED6DF8242513E712EFD7C07CC89
A30: 중밀도섬유판 | B30: 중밀도섬유판, 9.0*1220*2440mm | C30: M2 | D30: 0.104 | E30: =단가대비표!O5 -> 4679 | F30: =TRUNC(E30*D30,1) -> 486.6 | G30: =단가대비표!P5 -> 0 | H30: =TRUNC(G30*D30,1) -> 0 | I30: =단가대비표!V5 -> 0 | J30: =TRUNC(I30*D30,1) -> 0 | K30: =TRUNC(E30+G30+I30,1) -> 4679 | L30: =TRUNC(F30+H30+J30,1) -> 486.6 | N30: 5B3ED6DF8242513E712EFD7C07CC89 | O30: 5C33F6C0E49291382184D5007BCD7FDB1CFBCC | P30: F | Q30: F | R30: T | AW30: 5B3ED6DF8242513E712EFD7C07CC895C33F6C0E49291382184D5007BCD7FDB1CFBCC
A31: 고무접착제 | B31: 고무접착제, 건설용고무풀 | C31: kg | D31: 0.029 | E31: =단가대비표!O39 -> 11000 | F31: =TRUNC(E31*D31,1) -> 319 | G31: =단가대비표!P39 -> 0 | H31: =TRUNC(G31*D31,1) -> 0 | I31: =단가대비표!V39 -> 0 | J31: =TRUNC(I31*D31,1) -> 0 | K31: =TRUNC(E31+G31+I31,1) -> 11000 | L31: =TRUNC(F31+H31+J31,1) -> 319 | N31: 5B3ED6DF8242513E712EFD7C07CC89 | O31: 5C1706A4FC72C1373117CB5EC926518D8148C4 | P31: F | Q31: F | R31: T | AW31: 5B3ED6DF8242513E712EFD7C07CC895C1706A4FC72C1373117CB5EC926518D8148C4
A32: 걸레받이 설치 | B32: 중밀도섬유판, H=75~120mm 기준 | C32: M | D32: 1 | E32: =일위대가목록!E29 -> 0 | F32: =TRUNC(E32*D32,1) -> 0 | G32: =일위대가목록!F29 -> 3956 | H32: =TRUNC(G32*D32,1) -> 3956 | I32: =일위대가목록!G29 -> 79 | J32: =TRUNC(I32*D32,1) -> 79 | K32: =TRUNC(E32+G32+I32,1) -> 4035 | L32: =TRUNC(F32+H32+J32,1) -> 4035 | N32: 5B3ED6DF8242513E712EFD7C07CC89 | O32: 5B3ED6DF82427139213646BE16D26A | P32: T | Q32: F | R32: F | AW32: 5B3ED6DF8242513E712EFD7C07CC895B3ED6DF82427139213646BE16D26A
A33: [ 합 계 ] | F33: =TRUNC(SUMIF(N30:N32,N29,F30:F32),0) -> 805 | H33: =TRUNC(SUMIF(N30:N32,N29,H30:H32),0) -> 3956 | J33: =TRUNC(SUMIF(N30:N32,N29,J30:J32),0) -> 79 | L33: =F33+H33+J33 -> 4840 | N33: TOTAL | O33: TOTAL
A35: 마이톤텍스 설치 부분보수 M2 ( 호표 5 ) | N35: 5B3ED6DDDB12B13BE10006131C5BAD
A36: 불연천장재 | B36: 불연천장재, 마이텍스, 12*300*600mm, 나사, 타카 | C36: M2 | D36: 0.105 | E36: =단가대비표!O11 -> 9414 | F36: =TRUNC(E36*D36,1) -> 988.4 | G36: =단가대비표!P11 -> 0 | H36: =TRUNC(G36*D36,1) -> 0 | I36: =단가대비표!V11 -> 0 | J36: =TRUNC(I36*D36,1) -> 0 | K36: =TRUNC(E36+G36+I36,1) -> 9414 | L36: =TRUNC(F36+H36+J36,1) -> 988.4 | N36: 5B3ED6DDDB12B13BE10006131C5BAD | O36: 5C17164C0B02A138E13A10A66CD2B8270CD92E | P36: F | Q36: F | R36: T | AW36: 5B3ED6DDDB12B13BE10006131C5BAD5C17164C0B02A138E13A10A66CD2B8270CD92E
A37: 흡음텍스 설치 | C37: M2 | D37: 0.5 | E37: =일위대가목록!E30 -> 0 | F37: =TRUNC(E37*D37,1) -> 0 | G37: =일위대가목록!F30 -> 14357 | H37: =TRUNC(G37*D37,1) -> 7178.5 | I37: =일위대가목록!G30 -> 430 | J37: =TRUNC(I37*D37,1) -> 215 | K37: =TRUNC(E37+G37+I37,1) -> 14787 | L37: =TRUNC(F37+H37+J37,1) -> 7393.5 | N37: 5B3ED6DDDB12B13BE10006131C5BAD | O37: 5B3ED6DDDB12B13BE10006131C5A87 | P37: T | Q37: F | R37: F | AW37: 5B3ED6DDDB12B13BE10006131C5BAD5B3ED6DDDB12B13BE10006131C5A87
A38: [ 합 계 ] | F38: =TRUNC(SUMIF(N36:N37,N35,F36:F37),0) -> 988 | H38: =TRUNC(SUMIF(N36:N37,N35,H36:H37),0) -> 7178 | J38: =TRUNC(SUMIF(N36:N37,N35,J36:J37),0) -> 215 | L38: =F38+H38+J38 -> 8381 | N38: TOTAL | O38: TOTAL
A40: 하이디 슬림패널(방염)-D2 3.9t M2 ( 호표 6 ) | N40: 5B3ED6DDDEE2F13DC16A509817DAF8
A41: 3.9T 하이디 슬림패널 (방염) | B41: 400*800*3.9t /600*2400*3.9t/ SPC ,HPL마감 | C41: M2 | D41: 1 | E41: =단가대비표!O10 -> 60000 | F41: =TRUNC(E41*D41,1) -> 60000 | G41: =단가대비표!P10 -> 0 | H41: =TRUNC(G41*D41,1) -> 0 | I41: =단가대비표!V10 -> 0 | J41: =TRUNC(I41*D41,1) -> 0 | K41: =TRUNC(E41+G41+I41,1) -> 60000 | L41: =TRUNC(F41+H41+J41,1) -> 60000 | N41: 5B3ED6DDDEE2F13DC16A509817DAF8 | O41: 5C17164C0B02A138D11300B183E75E37930587 | P41: F | Q41: F | R41: T | AW41: 5B3ED6DDDEE2F13DC16A509817DAF85C17164C0B02A138D11300B183E75E37930587
A42: 벽체합판 설치 | B42: 합판 별도 | C42: M2 | D42: 1 | E42: =일위대가목록!E31 -> 0 | F42: =TRUNC(E42*D42,1) -> 0 | G42: =일위대가목록!F31 -> 17541 | H42: =TRUNC(G42*D42,1) -> 17541 | I42: =일위대가목록!G31 -> 350 | J42: =TRUNC(I42*D42,1) -> 350 | K42: =TRUNC(E42+G42+I42,1) -> 17891 | L42: =TRUNC(F42+H42+J42,1) -> 17891 | N42: 5B3ED6DDDEE2F13DC16A509817DAF8 | O42: 5B3ED6DDDEE2F13DC16A509817DAF9 | P42: T | Q42: F | R42: F | AW42: 5B3ED6DDDEE2F13DC16A509817DAF85B3ED6DDDEE2F13DC16A509817DAF9
A43: [ 합 계 ] | F43: =TRUNC(SUMIF(N41:N42,N40,F41:F42),0) -> 60000 | H43: =TRUNC(SUMIF(N41:N42,N40,H41:H42),0) -> 17541 | J43: =TRUNC(SUMIF(N41:N42,N40,J41:J42),0) -> 350 | L43: =F43+H43+J43 -> 77891 | N43: TOTAL | O43: TOTAL
A45: 드라이월설치(STUD100)-D1 W138,석고9.5T*1겹,양면,GW100 M2 ( 호표 7 ) | N45: 5B3ED6D3D472013811CF973B9BFA77
A46: 스터드설치(DRY WALL) | B46: C-100*45*0.8 | C46: M2 | D46: 1 | E46: =일위대가목록!E32 -> 19077 | F46: =TRUNC(E46*D46,1) -> 19077 | G46: =일위대가목록!F32 -> 8181 | H46: =TRUNC(G46*D46,1) -> 8181 | I46: =일위대가목록!G32 -> 0 | J46: =TRUNC(I46*D46,1) -> 0 | K46: =TRUNC(E46+G46+I46,1) -> 27258 | L46: =TRUNC(F46+H46+J46,1) -> 27258 | N46: 5B3ED6D3D472013811CF973B9BFA77 | O46: 5B3ED6D3D472013811CF9738C67889 | P46: T | Q46: F | R46: F | AW46: 5B3ED6D3D472013811CF973B9BFA775B3ED6D3D472013811CF9738C67889
...

Sheet 중기단가목록
B1: 중 기 단 가 목 록
B2: [ 한국도핑방지위원회 리모델링공사 ]
A3: 코 드 | B3: 품 명 | C3: 규 격 | D3: 단위 | E3: 재 료 비 | F3: 노 무 비 | G3: 경 비 | H3: 합 계 | I3: 번 호 | J3: 비 고 | K3: START | L3: 품셈개요

Sheet 중기단가산출서
A1: 중 기 단 가 산 출 서
A2: [ 한국도핑방지위원회 리모델링공사 ]
A3: 산 출 내 역 | B3: 재 료 비 | C3: 노 무 비 | D3: 경 비 | E3: 합 계 | F3: 비 고 | G3: START | H3: 코드 | I3: 품명 | J3: 규격 | K3: 단위 | L3: 수량 | M3: 변수 | N3: 값 | O3: 소계 | P3: 소계 | Q3: 소계 | R3: 소계 | S3: 소계 | T3: 총계
A4: ( )
A6: 총 계 | E6: 0

Sheet 단가대비표
A1: 단 가 대 비 표
A2: [ 한국도핑방지위원회 리모델링공사 ]
A3: 코 드 | B3: 품 명 | C3: 규격 | D3: 단위 | E3: 재 료 비 | P3: 노 무 비 | Q3: 경 비 | W3: 번 호 | X3: 비 고 | Y3: 품목구분 | Z3: 노임구분 | AA3: 소수점처리 | AB3: 자재구분
E4: 조달청가격 | F4: PAGE | G4: 거래가격 | H4: PAGE | I4: 유통물가 | J4: PAGE | K4: 조사가격1 | L4: PAGE | M4: 조사가격2 | N4: PAGE | O4: 적용단가 | Q4: 조달청가격 | R4: 거래가격 | S4: 유통물가 | T4: 조사가격1 | U4: 조사가격2 | V4: 적용단가
A5: 5C33F6C0E49291382184D5007BCD7FDB1CFBCC | B5: 중밀도섬유판 | C5: 중밀도섬유판, 9.0*1220*2440mm | D5: M2 | E5: 4679 | G5: 5979.57 | H5: 672 | I5: 4837.4 | J5: 409 | K5: 0 | M5: 0 | O5: =SMALL(E5:M5,COUNTIF(E5:M5,0)+1) -> 4679 | P5: 0 | Q5: 0 | R5: 0 | S5: 0 | T5: 0 | U5: 0 | V5: 0 | W5: 자재 1
A6: 5C33F6C0EFA2413CE18F077FC15CBFB74AA6FB | B6: 철강설 | C6: 철강설, 고철, 작업설부산물 | D6: kg | E6: 325 | G6: 445 | H6: 1472 | I6: 394 | J6: 1198 | K6: 0 | M6: 0 | O6: =SMALL(E6:M6,COUNTIF(E6:M6,0)+1) -> 325 | P6: 0 | Q6: 0 | R6: 0 | S6: 0 | T6: 0 | U6: 0 | V6: 0 | W6: 자재 2 | X6: 수집상차도
A7: 5C17164C0952C13291755E51B36862AB26FEEC | B7: 섬유단열재 | C7: 섬유단열재, 유리솜, 밀도24kg/㎥, 100mm, 유리면매트 | D7: M2 | E7: 0 | G7: 8560 | H7: 969 | I7: 0 | K7: 0 | M7: 0 | O7: =SMALL(E7:M7,COUNTIF(E7:M7,0)+1) -> 8560 | P7: 0 | Q7: 0 | R7: 0 | S7: 0 | T7: 0 | U7: 0 | V7: 0 | W7: 자재 3
A8: 5C17164C0B02A138D1130C66077558FF07CE09 | B8: 방염시트지 | C8: (시공도) | D8: M2 | E8: 0 | G8: 30000 | H8: 693 | I8: 0 | K8: 0 | M8: 0 | O8: =SMALL(E8:M8,COUNTIF(E8:M8,0)+1) -> 30000 | P8: 0 | Q8: 0 | R8: 0 | S8: 0 | T8: 0 | U8: 0 | V8: 0 | W8: 자재 4
A9: 5C17164C0B02A138D11300B2AA8B12339F62A9 | B9: 석고보드 | C9: 석고보드, 평보드, 9.5*900*2400mm(㎡) | D9: M2 | E9: 2796 | G9: 3009.25 | H9: 675 | I9: 3238.88 | J9: 408 | K9: 0 | M9: 0 | O9: =SMALL(E9:M9,COUNTIF(E9:M9,0)+1) -> 2796 | P9: 0 | Q9: 0 | R9: 0 | S9: 0 | T9: 0 | U9: 0 | V9: 0 | W9: 자재 5
A10: 5C17164C0B02A138D11300B183E75E37930587 | B10: 3.9T 하이디 슬림패널 (방염) | C10: 400*800*3.9t /600*2400*3.9t/ SPC ,HPL마감 | D10: M2 | E10: 0 | G10: 0 | I10: 0 | K10: 0 | M10: 60000 | O10: =SMALL(E10:M10,COUNTIF(E10:M10,0)+1) -> 60000 | P10: 0 | Q10: 0 | R10: 0 | S10: 0 | T10: 0 | U10: 0 | V10: 0 | W10: 자재 6
A11: 5C17164C0B02A138E13A10A66CD2B8270CD92E | B11: 불연천장재 | C11: 불연천장재, 마이텍스, 12*300*600mm, 나사, 타카 | D11: M2 | E11: 9414 | G11: 10400 | H11: 680 | I11: 0 | K11: 0 | M11: 0 | O11: =SMALL(E11:M11,COUNTIF(E11:M11,0)+1) -> 9414 | P11: 0 | Q11: 0 | R11: 0 | S11: 0 | T11: 0 | U11: 0 | V11: 0 | W11: 자재 7
A12: 5C17164C0B02A138E13A16CFEF05AA87EE7BA2 | B12: C-RUNNER | C12: 102*40*0.8mm | D12: M | E12: 0 | G12: 3340 | H12: 661 | I12: 0 | K12: 0 | M12: 0 | O12: =SMALL(E12:M12,COUNTIF(E12:M12,0)+1) -> 3340 | P12: 0 | Q12: 0 | R12: 0 | S12: 0 | T12: 0 | U12: 0 | V12: 0 | W12: 자재 8
A13: 5C17164C0B02A138E13A16CFEF05AA841ADE9E | B13: C-STUD | C13: 100*45*0.8mm | D13: M | E13: 0 | G13: 3930 | H13: 661 | I13: 0 | K13: 0 | M13: 0 | O13: =SMALL(E13:M13,COUNTIF(E13:M13,0)+1) -> 3930 | P13: 0 | Q13: 0 | R13: 0 | S13: 0 | T13: 0 | U13: 0 | V13: 0 | W13: 자재 9
A14: 5C17164C0B02A138E13A16CFEF05AA8521CCFC | B14: RUNNER 고정용 핀 | C14: NK-27 | D14: EA | E14: 0 | G14: 1700 | H14: 661 | I14: 0 | K14: 0 | M14: 0 | O14: =SMALL(E14:M14,COUNTIF(E14:M14,0)+1) -> 1700 | P14: 0 | Q14: 0 | R14: 0 | S14: 0 | T14: 0 | U14: 0 | V14: 0 | W14: 자재 10
A15: 5C17164C0B02A138E13A16CFEF05AA826C6179 | B15: 석고보드용 스크류 | C15: Φ3.5*32 | D15: EA | E15: 0 | G15: 7 | H15: 661 | I15: 0 | K15: 0 | M15: 0 | O15: =SMALL(E15:M15,COUNTIF(E15:M15,0)+1) -> 7 | P15: 0 | Q15: 0 | R15: 0 | S15: 0 | T15: 0 | U15: 0 | V15: 0 | W15: 자재 11
A16: 5C17164C0B02A138E13A16CFEF05AA826C6200 | B16: 석고보드용 스크류 | C16: Φ3.5*40 | D16: EA | E16: 0 | G16: 9 | H16: 661 | I16: 0 | K16: 0 | M16: 0 | O16: =SMALL(E16:M16,COUNTIF(E16:M16,0)+1) -> 9 | P16: 0 | Q16: 0 | R16: 0 | S16: 0 | T16: 0 | U16: 0 | V16: 0 | W16: 자재 12
A17: 5C17164C0B02A138E13A16CFEF05AA8373507C | B17: 조인트 테이프 | D17: M | E17: 0 | G17: 83 | H17: 661 | I17: 0 | K17: 0 | M17: 0 | O17: =SMALL(E17:M17,COUNTIF(E17:M17,0)+1) -> 83 | P17: 0 | Q17: 0 | R17: 0 | S17: 0 | T17: 0 | U17: 0 | V17: 0 | W17: 자재 13
A18: 5C17164C0B02A138E13A16CFEF05AA80BFAA2D | B18: 조인트 콤파운드 | D18: KG | E18: 0 | G18: 634 | H18: 661 | I18: 0 | K18: 0 | M18: 0 | O18: =SMALL(E18:M18,COUNTIF(E18:M18,0)+1) -> 634 | P18: 0 | Q18: 0 | R18: 0 | S18: 0 | T18: 0 | U18: 0 | V18: 0 | W18: 자재 14
A19: 5C17164C0B02A138E13A16CFEF05AA81467C8C | B19: 실란트 | C19: 300mL (SL807) | D19: C/T | E19: 0 | G19: 3565 | H19: 661 | I19: 0 | K19: 0 | M19: 0 | O19: =SMALL(E19:M19,COUNTIF(E19:M19,0)+1) -> 3565 | P19: 0 | Q19: 0 | R19: 0 | S19: 0 | T19: 0 | U19: 0 | V19: 0 | W19: 자재 15
A20: 5C17164C0A62513C91677208F4D9207F8C543C | B20: 유리문 | C20: 유리문, 12*1050*2100mm, 손보호, 투명, 강화유리문 | D20: 개 | E20: 450000 | G20: 0 | I20: 0 | K20: 0 | M20: 0 | O20: =SMALL(E20:M20,COUNTIF(E20:M20,0)+1) -> 450000 | P20: 0 | Q20: 0 | R20: 0 | S20: 0 | T20: 0 | U20: 0 | V20: 0 | W20: 자재 16
A21: 5C17164C0A62513C916F400F0984A8C1CA8403 | B21: 점검구 | C21: AL(백색), 450*450mm | D21: 조 | E21: 7000 | G21: 0 | I21: 0 | K21: 0 | M21: 0 | O21: =SMALL(E21:M21,COUNTIF(E21:M21,0)+1) -> 7000 | P21: 0 | Q21: 0 | R21: 0 | S21: 0 | T21: 0 | U21: 0 | V21: 0 | W21: 자재 17
A22: 5C17164C0A62513CA1074B16DFC2CF7BA128C0 | B22: ABS 진공성형도아 문틀 | C22: 1000*2100*210 | D22: EA | E22: 0 | G22: 140000 | H22: 637 | I22: 0 | K22: 0 | M22: 0 | O22: =SMALL(E22:M22,COUNTIF(E22:M22,0)+1) -> 140000 | P22: 0 | Q22: 0 | R22: 0 | S22: 0 | T22: 0 | U22: 0 | V22: 0 | W22: 자재 18 | X22: 시공도
A23: 5C17164C0A62513CA1074B16DFC2CF7BA128C1 | B23: ABS 진공성형도아 문짝 | C23: 1000*2100*210 | D23: EA | E23: 0 | G23: 140000 | H23: 637 | I23: 0 | K23: 0 | M23: 0 | O23: =SMALL(E23:M23,COUNTIF(E23:M23,0)+1) -> 140000 | P23: 0 | Q23: 0 | R23: 0 | S23: 0 | T23: 0 | U23: 0 | V23: 0 | W23: 자재 19 | X23: 시공도
A24: 5C17164C0A62513CB115E90A1ABBF27497ED6B | B24: 강화유리 | C24: 강화유리, 투명, 12mm | D24: M2 | E24: 47824 | G24: 44200 | H24: 665 | I24: 43200 | J24: 463 | K24: 0 | M24: 0 | O24: =SMALL(E24:M24,COUNTIF(E24:M24,0)+1) -> 43200 | P24: 0 | Q24: 0 | R24: 0 | S24: 0 | T24: 0 | U24: 0 | V24: 0 | W24: 자재 20
A25: 5C17164C04D2D13A01468F993BF5AEE5BF140B | B25: 비계안정장치 | C25: 비계안정장치, 비계기본틀, 기둥, 1.2*1.7m | D25: 개 | E25: 33471 | G25: 0 | I25: 0 | K25: 0 | M25: 0 | O25: =SMALL(E25:M25,COUNTIF(E25:M25,0)+1) -> 33471 | P25: 0 | Q25: 0 | R25: 0 | S25: 0 | T25: 0 | U25: 0 | V25: 0 | W25: 자재 21
A26: 5C17164C04D2D13A01468F993BF5AEE5BF1405 | B26: 비계안정장치 | C26: 비계안정장치, 가새, 1.2*1.9m | D26: 개 | E26: 9844 | G26: 10000 | H26: 167 | I26: 0 | K26: 0 | M26: 0 | O26: =SMALL(E26:M26,COUNTIF(E26:M26,0)+1) -> 9844 | P26: 0 | Q26: 0 | R26: 0 | S26: 0 | T26: 0 | U26: 0 | V26: 0 | W26: 자재 22
A27: 5C17164C04D2D13A01468F993BF5AEE5BF1BB9 | B27: 비계안정장치 | C27: 비계안정장치, 수평띠장, 1829mm | D27: 개 | E27: 0 | G27: 25000 | H27: 167 | I27: 0 | K27: 0 | M27: 0 | O27: =SMALL(E27:M27,COUNTIF(E27:M27,0)+1) -> 25000 | P27: 0 | Q27: 0 | R27: 0 | S27: 0 | T27: 0 | U27: 0 | V27: 0 | W27: 자재 23
A28: 5C17164C04D2D13A01468F993BF5AEE5BF1BB8 | B28: 비계안정장치 | C28: 비계안정장치, 손잡이, 1229mm | D28: 개 | E28: 0 | G28: 0 | I28: 0 | K28: 0 | M28: 0 | O28: 0 | P28: 0 | Q28: 0 | R28: 0 | S28: 0 | T28: 0 | U28: 0 | V28: 0 | W28: 자재 24
A29: 5C17164C04D2D13A01468F993BF5AEE5BF1BBF | B29: 비계안정장치 | C29: 비계안정장치, 손잡이, 1829mm | D29: 개 | E29: 0 | G29: 0 | I29: 0 | K29: 0 | M29: 0 | O29: 0 | P29: 0 | Q29: 0 | R29: 0 | S29: 0 | T29: 0 | U29: 0 | V29: 0 | W29: 자재 25
A30: 5C17164C04D2D13A01468F993BF5AEE5BF1BBE | B30: 비계안정장치 | C30: 비계안정장치, 손잡이기둥 | D30: 개 | E30: 0 | G30: 0 | I30: 0 | K30: 0 | M30: 0 | O30: 0 | P30: 0 | Q30: 0 | R30: 0 | S30: 0 | T30: 0 | U30: 0 | V30: 0 | W30: 자재 26
A31: 5C17164C04D2D13A01468F993BF5AEE5BF1BBD | B31: 비계안정장치 | C31: 비계안정장치, 바퀴 | D31: 개 | E31: 0 | G31: 9500 | H31: 167 | I31: 0 | K31: 0 | M31: 0 | O31: =SMALL(E31:M31,COUNTIF(E31:M31,0)+1) -> 9500 | P31: 0 | Q31: 0 | R31: 0 | S31: 0 | T31: 0 | U31: 0 | V31: 0 | W31: 자재 27
A32: 5C17164C04D2D13A01468F993BF5AEE5BF1BBC | B32: 비계안정장치 | C32: 비계안정장치, 쟈키 | D32: 개 | E32: 0 | G32: 11000 | H32: 167 | I32: 0 | K32: 0 | M32: 0 | O32: =SMALL(E32:M32,COUNTIF(E32:M32,0)+1) -> 11000 | P32: 0 | Q32: 0 | R32: 0 | S32: 0 | T32: 0 | U32: 0 | V32: 0 | W32: 자재 28
A33: 5C17164C04D2D13A01468F9939C5E203350690 | B33: 비계안정장치 | C33: 비계안정장치, 발판, 40*200*2000 | D33: 장 | E33: 0 | G33: 0 | I33: 0 | K33: 0 | M33: 0 | O33: 0 | P33: 0 | Q33: 0 | R33: 0 | S33: 0 | T33: 0 | U33: 0 | V33: 0 | W33: 자재 29
A34: 5C1706A7B642E13991AA5291A1EE8F5BA96A75 | B34: 도어힌지 | C34: 도어힌지, 황동, 베어링2개, 114.3*3.0mm | D34: 개 | E34: 0 | G34: 3000 | H34: 661 | I34: 0 | K34: 0 | M34: 0 | O34: =SMALL(E34:M34,COUNTIF(E34:M34,0)+1) -> 3000 | P34: 0 | Q34: 0 | R34: 0 | S34: 0 | T34: 0 | U34: 0 | V34: 0 | W34: 자재 30
A35: 5C1706A7B642E13991AA5291A1EE89C3F0046C | B35: 플로어힌지 | C35: 플로어힌지, KS3호, 105kg, 강화유리문(K-8300) | D35: 조 | E35: 77000 | G35: 77000 | H35: 660 | I35: 0 | K35: 0 | M35: 0 | O35: =SMALL(E35:M35,COUNTIF(E35:M35,0)+1) -> 77000 | P35: 0 | Q35: 0 | R35: 0 | S35: 0 | T35: 0 | U35: 0 | V35: 0 | W35: 자재 31
A36: 5C1706A7B642E13951CF80172634B2692694C4 | B36: 손잡이 | C36: 손잡이, 스테인리스, 보통(대) | D36: 개 | E36: 0 | G36: 40000 | H36: 657 | I36: 0 | K36: 0 | M36: 0 | O36: =SMALL(E36:M36,COUNTIF(E36:M36,0)+1) -> 40000 | P36: 0 | Q36: 0 | R36: 0 | S36: 0 | T36: 0 | U36: 0 | V36: 0 | W36: 자재 32
A37: 5C1706A7B642E13951CF801727D4497A356DEC | B37: 도어핸들 | C37: 도어핸들, 공정 | D37: 조 | E37: 0 | G37: 15000 | H37: 661 | I37: 0 | K37: 0 | M37: 0 | O37: =SMALL(E37:M37,COUNTIF(E37:M37,0)+1) -> 15000 | P37: 0 | Q37: 0 | R37: 0 | S37: 0 | T37: 0 | U37: 0 | V37: 0 | W37: 자재 33
A38: 5C1706A7B642E13951CF801724090F8E630906 | B38: 디지탈도아록 | D38: 조 | E38: 0 | G38: 350000 | H38: 661 | I38: 0 | K38: 0 | M38: 0 | O38: =SMALL(E38:M38,COUNTIF(E38:M38,0)+1) -> 350000 | P38: 0 | Q38: 0 | R38: 0 | S38: 0 | T38: 0 | U38: 0 | V38: 0 | W38: 자재 34
A39: 5C1706A4FC72C1373117CB5EC926518D8148C4 | B39: 고무접착제 | C39: 고무접착제, 건설용고무풀 | D39: kg | E39: 0 | G39: 11000 | H39: 147 | I39: 0 | K39: 0 | M39: 0 | O39: =SMALL(E39:M39,COUNTIF(E39:M39,0)+1) -> 11000 | P39: 0 | Q39: 0 | R39: 0 | S39: 0 | T39: 0 | U39: 0 | V39: 0 | W39: 자재 35
A40: 5C1706A4FD0221326122139510BDACA7A54540 | B40: 실링재 | C40: 실링재, 실리콘, 비초산, 유리용, 창호주위 | D40: L | E40: 12783 | G40: 18500 | H40: 607 | I40: 0 | K40: 0 | M40: 0 | O40: =SMALL(E40:M40,COUNTIF(E40:M40,0)+1) -> 12783 | P40: 0 | Q40: 0 | R40: 0 | S40: 0 | T40: 0 | U40: 0 | V40: 0 | W40: 자재 36
...

Sheet  공사설정 
A1: 이 Sheet는 수정하지 마십시요
A2: 공사구분 | B2: A | C2: 타이틀
A3: 확정내역 | B3: 원내역
A4: 자재단가적용 | B4: 5
A5: 경비단가적용 | B5: 5
A6: 품목코드형식 | B6: XXXX-XXXX-XXXXXXXXX
A7: 내역금액소수점처리 | B7: C | C7: T
A8: 일위대가내역소수점처리 | B8: C | C8: 2
A9: 단가명 | B9: 조달청가격 | C9: 거래가격 | D9: 유통물가 | E9: 조사가격1 | F9: 조사가격2 | G9: TTTTT
A10: 환율 | B10: 1289 | C10: 0 | D10: 0
A11: 시간당작업량 | B11: R | C11: 4
A12: 1회 사이클시간 | B12: R | C12: 4
A13: 시간당 작업사이클 | B13: R | C13: 3
A14: 일반변수 | B14: R | C14: 5
A15: 시간당 노임산출 계수 | B15: A | C15: 1/8*16/12*25/20 | D15: 1/8*16/12*25/20 | E15: 1/8*16/12*25/20 | F15: 1
A16: 재료비 할증 계수 | B16: 1.11 | C16: 1.12
A17: 노무비 할증 계수 | B17: 1 | C17: 1.5 | D17: 1.16 | E17: 1.6 | F17: 1.6 | G17: 1.6 | H17: 1.94 | I17: 1.94 | J17: 1.94 | K17: 1 | L17: 1 | M17: 1
A18: 경비 할증 계수 | B18: 1.25 | C18: 1.071
A19: 내역,일위대가 품명,규격,단위 따로적용
A20: 내역단가 소수점처리 | B20: C | C20: 1
A21: 코드 | B21: 공종구분명 | C21: 원가비목코드
A22: 1 | B22: 작 업 부 산 물 | C22: A3
A23: 2 | B23: 운 반 비 | C23: C1
A24: 3 | B24: 도급자관급자재 | C24: DJ
A25: 4 | B25: 고재 | C25: D3
A26: 5 | B26: 외 자 재
A27: 6 | B27: 폐기물처리비 | C27: D5
A28: 7 | B28: 관급자관급자재 | C28: DL
A29: 8 | B29: ...
A30: 9 | B30: ...
A43: 단가 순서 | B43: 1234

Sheet Sheet1
